BEGIN:VCALENDAR
VERSION:2.0
PRODID:-//Journeys Program - ECPv6.15.15//NONSGML v1.0//EN
CALSCALE:GREGORIAN
METHOD:PUBLISH
X-ORIGINAL-URL:https://journeysprogram.org
X-WR-CALDESC:Events for Journeys Program
REFRESH-INTERVAL;VALUE=DURATION:PT1H
X-Robots-Tag:noindex
X-PUBLISHED-TTL:PT1H
BEGIN:VTIMEZONE
TZID:America/Chicago
BEGIN:DAYLIGHT
TZOFFSETFROM:-0600
TZOFFSETTO:-0500
TZNAME:CDT
DTSTART:20250309T080000
END:DAYLIGHT
BEGIN:STANDARD
TZOFFSETFROM:-0500
TZOFFSETTO:-0600
TZNAME:CST
DTSTART:20251102T070000
END:STANDARD
BEGIN:DAYLIGHT
TZOFFSETFROM:-0600
TZOFFSETTO:-0500
TZNAME:CDT
DTSTART:20260308T080000
END:DAYLIGHT
BEGIN:STANDARD
TZOFFSETFROM:-0500
TZOFFSETTO:-0600
TZNAME:CST
DTSTART:20261101T070000
END:STANDARD
BEGIN:DAYLIGHT
TZOFFSETFROM:-0600
TZOFFSETTO:-0500
TZNAME:CDT
DTSTART:20270314T080000
END:DAYLIGHT
BEGIN:STANDARD
TZOFFSETFROM:-0500
TZOFFSETTO:-0600
TZNAME:CST
DTSTART:20271107T070000
END:STANDARD
END:VTIMEZONE
BEGIN:VEVENT
DTSTART;TZID=America/Chicago:20260414T160000
DTEND;TZID=America/Chicago:20260414T173000
DTSTAMP:20260422T005356
CREATED:20260306T071919Z
LAST-MODIFIED:20260414T095224Z
UID:10000343-1776182400-1776187800@journeysprogram.org
SUMMARY:Teen & Parent/Caregiver Terrarium Class at The Wild Violette: Osceola
DESCRIPTION:Registration for this event is required on Eventbrite.\n\n\nTeens & Parent/Caregivers\, join the Wisconsin Family Connections Center at The Wild Violette in Osceola on Tuesday\, April 14th at 4pm for terrarium building! \nYour registration includes all the supplies needed to craft and create your own terrarium with succulents\, rocks\, dirt\, moss and more!  \nThis workshop is designed for caregivers and teens ages 12+\, so please note that at least one of your tickets should be for the accompanying adult. If you have any questions about this event\, contact Madeline at mcurry@cclse.org. \nCancellations for events must be made at least 72 hours in advance. If 3 or more late cancellations or no-shows occur within a six-month period\, the household’s event registrations in the following six months will default to a waitlist. \n \nThis event is limited to Wisconsin residents impacted by adoption or out-of-home care and their immediate household.
URL:https://journeysprogram.org/calendar/teen-parent-caregiver-terrarium-class-at-the-wild-violette-osceola/
LOCATION:The Wild Violette\, 407 Cascade Street South\, Osceola\, WI\, 54020\, United States
ATTACH;FMTTYPE=image/jpeg:https://journeysprogram.org/wp-content/uploads/2026/03/7e54f12a801f78c79dcff570abb25760.jpg
END:VEVENT
END:VCALENDAR