BEGIN:VCALENDAR
VERSION:2.0
PRODID:-//Journeys Program - ECPv6.15.15//NONSGML v1.0//EN
CALSCALE:GREGORIAN
METHOD:PUBLISH
X-WR-CALNAME:Journeys Program
X-ORIGINAL-URL:https://journeysprogram.org
X-WR-CALDESC:Events for Journeys Program
REFRESH-INTERVAL;VALUE=DURATION:PT1H
X-Robots-Tag:noindex
X-PUBLISHED-TTL:PT1H
BEGIN:VTIMEZONE
TZID:America/Chicago
BEGIN:DAYLIGHT
TZOFFSETFROM:-0600
TZOFFSETTO:-0500
TZNAME:CDT
DTSTART:20240310T080000
END:DAYLIGHT
BEGIN:STANDARD
TZOFFSETFROM:-0500
TZOFFSETTO:-0600
TZNAME:CST
DTSTART:20241103T070000
END:STANDARD
BEGIN:DAYLIGHT
TZOFFSETFROM:-0600
TZOFFSETTO:-0500
TZNAME:CDT
DTSTART:20250309T080000
END:DAYLIGHT
BEGIN:STANDARD
TZOFFSETFROM:-0500
TZOFFSETTO:-0600
TZNAME:CST
DTSTART:20251102T070000
END:STANDARD
BEGIN:DAYLIGHT
TZOFFSETFROM:-0600
TZOFFSETTO:-0500
TZNAME:CDT
DTSTART:20260308T080000
END:DAYLIGHT
BEGIN:STANDARD
TZOFFSETFROM:-0500
TZOFFSETTO:-0600
TZNAME:CST
DTSTART:20261101T070000
END:STANDARD
END:VTIMEZONE
BEGIN:VEVENT
DTSTART;TZID=America/Chicago:20250306T160000
DTEND;TZID=America/Chicago:20250306T210000
DTSTAMP:20260420T211252
CREATED:20250114T171346Z
LAST-MODIFIED:20250114T171346Z
UID:10000194-1741276800-1741294800@journeysprogram.org
SUMMARY:Indoor Mini-Golf Family Fun at Big Putts sponsored by JBF: Greenfield
DESCRIPTION:Registration for this event is required on Eventbrite.\n\n\nJoin WiFCC for a fun evening of indoor mini-golf at Big Putts in Greenfield sponsored by Jockey Being Family! Their custom built\, indoor mini golf course has 18 holes of fun and challenging obstacles\, Big Putts Mini Golf is designed to test your skills while providing endless entertainment! This event is open to foster\, adoptive\, guardianship\, kinship/relative caregiver and reunified families. Please note that all children at this event need to be accompanied by a supervising adult. \nThis event would be a great opportunity to invite your child’s birth/first family or previous foster family. We understand this may not work for all families but encourage you to consider it. We hope to create an opportunity for children to have all their loved ones in one location whenever possible and create positive memories together. Please have each household register separately. \nIf you have questions about this event\, contact Christy at ctimm@cclse.org. \nThis event is being sponsored by Jockey Being Family. To learn more about Jockey Being Family\, visit their website here: https://www.jockeybeingfamily.com/ \nCancellations for events must be made at least 72 hours in advance. If 3 or more late cancellations or no-shows occur within a six-month period\, the household’s event registrations in the following six months will default to a waitlist.
URL:https://journeysprogram.org/calendar/indoor-mini-golf-family-fun-at-big-putts-sponsored-by-jbf-greenfield/
LOCATION:4251 S 27th St\, 4251 South 27th Street\, Greenfield\, WI\, 53221\, United States
ATTACH;FMTTYPE=image/jpeg:https://journeysprogram.org/wp-content/uploads/2025/01/42689ed0e2cd2b030dfe1e4c61383929.jpg
END:VEVENT
END:VCALENDAR