BEGIN:VCALENDAR
VERSION:2.0
PRODID:-//Journeys Program - ECPv6.15.15//NONSGML v1.0//EN
CALSCALE:GREGORIAN
METHOD:PUBLISH
X-WR-CALNAME:Journeys Program
X-ORIGINAL-URL:https://journeysprogram.org
X-WR-CALDESC:Events for Journeys Program
REFRESH-INTERVAL;VALUE=DURATION:PT1H
X-Robots-Tag:noindex
X-PUBLISHED-TTL:PT1H
BEGIN:VTIMEZONE
TZID:America/Chicago
BEGIN:DAYLIGHT
TZOFFSETFROM:-0600
TZOFFSETTO:-0500
TZNAME:CDT
DTSTART:20240310T080000
END:DAYLIGHT
BEGIN:STANDARD
TZOFFSETFROM:-0500
TZOFFSETTO:-0600
TZNAME:CST
DTSTART:20241103T070000
END:STANDARD
BEGIN:DAYLIGHT
TZOFFSETFROM:-0600
TZOFFSETTO:-0500
TZNAME:CDT
DTSTART:20250309T080000
END:DAYLIGHT
BEGIN:STANDARD
TZOFFSETFROM:-0500
TZOFFSETTO:-0600
TZNAME:CST
DTSTART:20251102T070000
END:STANDARD
BEGIN:DAYLIGHT
TZOFFSETFROM:-0600
TZOFFSETTO:-0500
TZNAME:CDT
DTSTART:20260308T080000
END:DAYLIGHT
BEGIN:STANDARD
TZOFFSETFROM:-0500
TZOFFSETTO:-0600
TZNAME:CST
DTSTART:20261101T070000
END:STANDARD
END:VTIMEZONE
BEGIN:VEVENT
DTSTART;TZID=America/Chicago:20250221T170000
DTEND;TZID=America/Chicago:20250221T200000
DTSTAMP:20260420T192839
CREATED:20250114T171318Z
LAST-MODIFIED:20250114T171318Z
UID:10000188-1740157200-1740168000@journeysprogram.org
SUMMARY:WiFCC Family Fun Night at Adventure Zone: Duluth
DESCRIPTION:Registration for this event is required on Eventbrite.\n\n\nJoin WiFCC at Adventure Zone on Friday\, February 21 from 5pm-8pm. Your registration will include unlimited mini golf\, unlimited laser tag\, unlimited sports play\, $1 arcade play\, and a hot dog and small soda. Additional arcade play is available for purchase. \nThis event is intended for foster\, adoptive\, guardianship\, reunified and relative caregiver families residing in the state of Wisconsin. \nDue to popularity of family events\, please let your local WiFCC specialist know ahead of time if there is any reason you can no longer attend or need fewer tickets than you originally signed up for. We would like to accommodate as many families as possible. \nThis event would be a great opportunity to invite your child’s birth/first family or previous foster family. We understand this may not work for all family dynamics but encourage you to consider it. We hope to create an opportunity for children to have all their loved ones in one location whenever possible and create positive memories together. Please have each household register separately. \nTo learn more about Adventure Zone located in Duluth\, MN visit their website here: https://www.adventurezoneduluth.com/ Registrants MUST BE a resident of Wisconsin to register for this event. \nIf you have questions about this event\, contact Madeline at mcurry@cclse.org. \nCancellations for events must be made at least 72 hours in advance. If 3 or more late cancellations or no-shows occur within a six-month period\, the household’s event registrations in the following six months will default to a waitlist.
URL:https://journeysprogram.org/calendar/wifcc-family-fun-night-at-adventure-zone-duluth/
LOCATION:329 S Lake Ave\, 329 South Lake Avenue\, Duluth\, MN\, 55802\, United States
ATTACH;FMTTYPE=image/jpeg:https://journeysprogram.org/wp-content/uploads/2025/01/369625966c91139437fc4c1a135cfcdd.jpg
END:VEVENT
END:VCALENDAR